BEGIN:VCALENDAR
VERSION:2.0
CALSCALE:GREGORIAN
PRODID:adamgibbons/ics
METHOD:PUBLISH
X-PUBLISHED-TTL:PT1H
BEGIN:VEVENT
UID:186@tucsontimeline.info
SUMMARY:Tucson Peace Fair
DTSTAMP:20260425T103826Z
DTSTART:20250222T180000Z
DTEND:20250222T230000Z
DESCRIPTION:The Tucson Peace Fair and Music Festival takes place at the Arm
	ory Park on\nSaturday\, February 22\, 2025.  It is the largest festival fo
	r peace\, social\njustice and environmental groups in Arizona.  Come and m
	eet some local activist\ngroups\, listen to music and kid’s activities.  A
	rmory Park is located at 222 S.\n5th Street in Tucson.  For more informati
	on\, visit\nhttps://www.tucsonpeacecalendar.org/ [https://www.tucsonpeacec
	alendar.org/]
URL:https://tucsontimeline.info/event/tucson-peace-fair
GEO:32.219;-110.968
LOCATION:armory park - armory park\, tucson (S 6th ave and 13th st)
STATUS:CONFIRMED
CATEGORIES:
X-ALT-DESC;FMTTYPE=text/html:<p>The Tucson Peace Fair and Music Festival ta
	kes place at the Armory Park on Saturday, February 22, 2025.&nbsp; It is t
	he largest festival for peace, social justice and environmental groups in 
	Arizona.&nbsp; Come and meet some local activist groups, listen to music a
	nd kid’s activities.&nbsp; Armory Park is located at 222 S. 5th Street in 
	Tucson.&nbsp; For more information, visit <a target="_blank" href="https:/
	/www.tucsonpeacecalendar.org/">https://www.tucsonpeacecalendar.org/</a></p
	>
END:VEVENT
BEGIN:VEVENT
UID:150@tucsontimeline.info
SUMMARY:We Fight Back!
DTSTAMP:20260425T103826Z
DTSTART:20250120T233000Z
DESCRIPTION:Rally at Armory Park. Defeat Trump's exteme-right billionaire a
	genda!
URL:https://tucsontimeline.info/event/we-fight-back
GEO:32.219;-110.968
LOCATION:armory park - armory park\, tucson (S 6th ave and 13th st)
STATUS:CONFIRMED
CATEGORIES:activism,good causes
X-ALT-DESC;FMTTYPE=text/html:<p>Rally at Armory Park. Defeat Trump's exteme
	-right billionaire agenda!</p>
END:VEVENT
END:VCALENDAR
